BEGIN:VCALENDAR
VERSION:2.0
PRODID:-//wp-events-plugin.com//7.2.3.1//EN
TZID:Europe/Amsterdam
X-WR-TIMEZONE:Europe/Amsterdam
BEGIN:VEVENT
UID:534@torenlaantheater.nl
DTSTART;TZID=Europe/Amsterdam:20260606T200000
DTEND;TZID=Europe/Amsterdam:20260606T200000
DTSTAMP:20260414T084412Z
URL:https://www.torenlaantheater.nl/evenement/tim-in-een-jasje/
SUMMARY:Tim in een jasje
DESCRIPTION:Muzikaal cabaret van Albert Meijer\, winnaar van het Amsterdams
 e Studenten Cabaret Festival in 2024
ATTACH;FMTTYPE=image/jpeg:https://www.torenlaantheater.nl/wp-content/uploa
 ds/2026/03/Tim-16x7-1.jpg
CATEGORIES:kleinkunst
END:VEVENT
BEGIN:VTIMEZONE
TZID:Europe/Amsterdam
X-LIC-LOCATION:Europe/Amsterdam
BEGIN:DAYLIGHT
DTSTART:20260329T030000
TZOFFSETFROM:+0100
TZOFFSETTO:+0200
TZNAME:CEST
END:DAYLIGHT
END:VTIMEZONE
END:VCALENDAR