BEGIN:VCALENDAR
VERSION:2.0
PRODID:-//wp-events-plugin.com//7.2.3.1//EN
TZID:Europe/Amsterdam
X-WR-TIMEZONE:Europe/Amsterdam
BEGIN:VEVENT
UID:535@torenlaantheater.nl
DTSTART;TZID=Europe/Amsterdam:20260501T200000
DTEND;TZID=Europe/Amsterdam:20260501T200000
DTSTAMP:20260416T170553Z
URL:https://www.torenlaantheater.nl/evenement/septnoir/
SUMMARY:Septnoir
DESCRIPTION:Trio met Damian de Muijnck (drums)\, Matija Mitrovic (bas) en J
 onas Hormann (piano). Eigentijdse jazz en improvisatie
ATTACH;FMTTYPE=image/jpeg:https://www.torenlaantheater.nl/wp-content/uploa
 ds/2026/03/septnoir16x7.jpg
CATEGORIES:muziek
END:VEVENT
BEGIN:VTIMEZONE
TZID:Europe/Amsterdam
X-LIC-LOCATION:Europe/Amsterdam
BEGIN:DAYLIGHT
DTSTART:20260329T030000
TZOFFSETFROM:+0100
TZOFFSETTO:+0200
TZNAME:CEST
END:DAYLIGHT
END:VTIMEZONE
END:VCALENDAR