BEGIN:VCALENDAR
VERSION:2.0
PRODID:-//wp-events-plugin.com//7.2.3.1//EN
TZID:Europe/Amsterdam
X-WR-TIMEZONE:Europe/Amsterdam
BEGIN:VEVENT
UID:555@torenlaantheater.nl
DTSTART;TZID=Europe/Amsterdam:20261128T200000
DTEND;TZID=Europe/Amsterdam:20261128T200000
DTSTAMP:20260408T082742Z
URL:https://www.torenlaantheater.nl/evenement/nootdweer-presenteert-gracht
 ensmart/
SUMMARY:Nootdweer presenteert…  Grachtensmart
DESCRIPTION:Smartlappen van de Utrechtse grachtenkant en shanty's en season
 g uit Zeist
ATTACH;FMTTYPE=image/jpeg:https://www.torenlaantheater.nl/wp-content/uploa
 ds/2026/04/grachten-site-scaled.jpg
CATEGORIES:muziek
END:VEVENT
BEGIN:VTIMEZONE
TZID:Europe/Amsterdam
X-LIC-LOCATION:Europe/Amsterdam
BEGIN:STANDARD
DTSTART:20261025T020000
TZOFFSETFROM:+0200
TZOFFSETTO:+0100
TZNAME:CET
END:STANDARD
END:VTIMEZONE
END:VCALENDAR