BEGIN:VCALENDAR
VERSION:2.0
PRODID:-//wp-events-plugin.com//7.2.3.1//EN
TZID:Europe/Amsterdam
X-WR-TIMEZONE:Europe/Amsterdam
BEGIN:VEVENT
UID:452@torenlaantheater.nl
DTSTART;TZID=Europe/Amsterdam:20251114T150000
DTEND;TZID=Europe/Amsterdam:20251114T170000
DTSTAMP:20250930T094038Z
URL:https://www.torenlaantheater.nl/evenement/meezingcafe-32/
SUMMARY:Meezingcafé
DESCRIPTION:Samen zingen onder leiding van Peter Elbertse\, met na afloop e
 en hapje en een drankje
ATTACH;FMTTYPE=image/jpeg:https://www.torenlaantheater.nl/wp-content/uploa
 ds/2025/09/Peter_0016-scaled-e1771750004466.jpg
END:VEVENT
BEGIN:VTIMEZONE
TZID:Europe/Amsterdam
X-LIC-LOCATION:Europe/Amsterdam
BEGIN:STANDARD
DTSTART:20251026T020000
TZOFFSETFROM:+0200
TZOFFSETTO:+0100
TZNAME:CET
END:STANDARD
END:VTIMEZONE
END:VCALENDAR