BEGIN:VCALENDAR
VERSION:2.0
PRODID:-//wp-events-plugin.com//7.2.3.1//EN
TZID:Europe/Amsterdam
X-WR-TIMEZONE:Europe/Amsterdam
BEGIN:VEVENT
UID:404@torenlaantheater.nl
DTSTART;TZID=Europe/Amsterdam:20260417T200000
DTEND;TZID=Europe/Amsterdam:20260417T200000
DTSTAMP:20251001T063708Z
URL:https://www.torenlaantheater.nl/evenement/max-van-den-burg-maxikozi-tr
 y-out/
SUMMARY:Max van den Burg: Maxikozi
DESCRIPTION:Max is terug in het theater – en dit keer wordt het nóg geze
 lliger! (try out)
ATTACH;FMTTYPE=image/jpeg:https://www.torenlaantheater.nl/wp-content/uploa
 ds/2025/05/Maxikozi-Max-van-den-Burg-scaled-e1759300603823.png
CATEGORIES:kleinkunst
END:VEVENT
BEGIN:VTIMEZONE
TZID:Europe/Amsterdam
X-LIC-LOCATION:Europe/Amsterdam
BEGIN:DAYLIGHT
DTSTART:20260329T030000
TZOFFSETFROM:+0100
TZOFFSETTO:+0200
TZNAME:CEST
END:DAYLIGHT
END:VTIMEZONE
END:VCALENDAR