BEGIN:VCALENDAR
VERSION:2.0
PRODID:-//wp-events-plugin.com//7.2.3.1//EN
TZID:Europe/Amsterdam
X-WR-TIMEZONE:Europe/Amsterdam
BEGIN:VEVENT
UID:461@torenlaantheater.nl
DTSTART;TZID=Europe/Amsterdam:20260315T150000
DTEND;TZID=Europe/Amsterdam:20260315T150000
DTSTAMP:20260312T101639Z
URL:https://www.torenlaantheater.nl/evenement/de-harde-liefde/
SUMMARY:Over de Rand
DESCRIPTION:Door omstandigheden GEANNULEERD 
ATTACH;FMTTYPE=image/jpeg:https://www.torenlaantheater.nl/wp-content/uploa
 ds/2025/10/486758388_9547783371965573_3968264898147822519_n-e1760641047770
 .jpg
CATEGORIES:kleinkunst,muziek,vertellen
END:VEVENT
BEGIN:VTIMEZONE
TZID:Europe/Amsterdam
X-LIC-LOCATION:Europe/Amsterdam
BEGIN:STANDARD
DTSTART:20251026T020000
TZOFFSETFROM:+0200
TZOFFSETTO:+0100
TZNAME:CET
END:STANDARD
END:VTIMEZONE
END:VCALENDAR